BEGIN:VCALENDAR
VERSION:2.0
PRODID:SchoolNow
CALSCALE:GREGORIAN
BEGIN:VEVENT
UID:1a0504f0-f6d5-11f0-a070-0a58a9feac02
DTSTAMP:20260121T142557Z
SUMMARY:Middle school early dismissal
URL;VALUE=URI:https://www.albanyschools.org/schools/myers/calendar/8838646/
 1-p-m-dismissal-for-staff-pd
DTSTART:20260318T163000Z
DTEND:20260318T173000Z
END:VEVENT
END:VCALENDAR
