BEGIN:VCALENDAR
VERSION:2.0
PRODID:SchoolNow
CALSCALE:GREGORIAN
BEGIN:VEVENT
UID:09b1eb14-2d07-11f1-9188-0a58a9feac02
DTSTAMP:20260420T182842Z
SUMMARY:Community Market and Spring Concert & Art Show
URL;VALUE=URI:https://www.albanyschools.org/schools/myers/calendar/8960050/
 spring-concert-and-art-show
DTSTART:20260514T200000Z
DTEND:20260515T000000Z
END:VEVENT
END:VCALENDAR
