BEGIN:VCALENDAR
VERSION:2.0
PRODID:SchoolNow
CALSCALE:GREGORIAN
BEGIN:VEVENT
UID:f4ebd29c-3749-11f1-b8ac-0ee5737ebb0b
DTSTAMP:20260413T150340Z
SUMMARY:Grade 8 field trip to Fenimore Museum & Country Village
URL;VALUE=URI:https://www.albanyschools.org/schools/myers/calendar/8990835/
 grade-8-field-trip-to-fenimore-museum-country-village
DTSTART:20260529T150300Z
DTEND:20260529T160300Z
END:VEVENT
END:VCALENDAR
