BEGIN:VCALENDAR
VERSION:2.0
PRODID:SchoolNow
CALSCALE:GREGORIAN
BEGIN:VEVENT
UID:079d001e-374a-11f1-bb9f-0e19a9c413cb
DTSTAMP:20260413T150412Z
SUMMARY:Grade 8 dance
URL;VALUE=URI:https://www.albanyschools.org/schools/myers/calendar/8990836/
 grade-8-dance
DTSTART:20260625T210000Z
DTEND:20260625T230000Z
END:VEVENT
END:VCALENDAR
