BEGIN:VCALENDAR
VERSION:2.0
PRODID:SchoolNow
CALSCALE:GREGORIAN
BEGIN:VEVENT
UID:1ad50af0-374a-11f1-84fa-0a58a9feac02
DTSTAMP:20260413T150444Z
SUMMARY:Grade 8 Moving Up Ceremony
URL;VALUE=URI:https://www.albanyschools.org/schools/myers/calendar/8990837/
 grade-8-moving-up-ceremony
DTSTART:20260626T130000Z
DTEND:20260626T150000Z
END:VEVENT
END:VCALENDAR
