BEGIN:VCALENDAR
VERSION:2.0
PRODID:SchoolNow
CALSCALE:GREGORIAN
BEGIN:VEVENT
UID:734371c6-3ce6-11f1-85d6-0a58a9feac02
DTSTAMP:20260420T182629Z
SUMMARY:Grade 6 (Sage) field trip to NYS Museum
URL;VALUE=URI:https://www.albanyschools.org/schools/myers/calendar/9007471/
 grade-6-sage-field-trip-to-nys-museum
DTSTART:20260506T182500Z
DTEND:20260506T192500Z
END:VEVENT
END:VCALENDAR
