BEGIN:VCALENDAR
VERSION:2.0
PRODID:SchoolNow
CALSCALE:GREGORIAN
BEGIN:VEVENT
UID:859b5244-3ce6-11f1-9bb9-0affda22389f
DTSTAMP:20260420T182700Z
SUMMARY:Teen Night
URL;VALUE=URI:https://www.albanyschools.org/schools/myers/calendar/9007473/
 teen-night
DTSTART:20260512T210000Z
DTEND:20260512T230000Z
END:VEVENT
END:VCALENDAR
