BEGIN:VCALENDAR
VERSION:2.0
PRODID:SchoolNow
CALSCALE:GREGORIAN
BEGIN:VEVENT
UID:9a0e0b9a-3ce6-11f1-8110-0afff348c0d5
DTSTAMP:20260420T182734Z
SUMMARY:Grade 6 (UAlbany) field trip to NYS Museum
URL;VALUE=URI:https://www.albanyschools.org/schools/myers/calendar/9007474/
 grade-6-ualbany-field-trip-to-nys-museum
DTSTART:20260513T182700Z
DTEND:20260513T192700Z
END:VEVENT
END:VCALENDAR
