BEGIN:VCALENDAR
VERSION:2.0
PRODID:SchoolNow
CALSCALE:GREGORIAN
BEGIN:VEVENT
UID:d59a1582-3ce6-11f1-a741-0a58a9feac02
DTSTAMP:20260420T182914Z
SUMMARY:SAFEE field trip to Museum of Natural History in NYC
URL;VALUE=URI:https://www.albanyschools.org/schools/myers/calendar/9007476/
 safee-field-trip-to-museum-of-natural-history-in-nyc
DTSTART:20260521T182800Z
DTEND:20260521T192800Z
END:VEVENT
END:VCALENDAR
