BEGIN:VCALENDAR
VERSION:2.0
PRODID:SchoolNow
CALSCALE:GREGORIAN
BEGIN:VEVENT
UID:e4d82976-3ce6-11f1-b50e-0affda22389f
DTSTAMP:20260420T182940Z
SUMMARY:Grade 8 field trip to Norrie Point
URL;VALUE=URI:https://www.albanyschools.org/schools/myers/calendar/9007477/
 grade-8-field-trip-to-norrie-point
DTSTART:20260527T182900Z
DTEND:20260527T192900Z
END:VEVENT
END:VCALENDAR
