BEGIN:VCALENDAR
VERSION:2.0
PRODID:SchoolNow
CALSCALE:GREGORIAN
BEGIN:VEVENT
UID:ff351c66-3ce6-11f1-b9d5-0a58a9feac02
DTSTAMP:20260420T183024Z
SUMMARY:Spring Open House at AHS (for rising 9th graders)
URL;VALUE=URI:https://www.albanyschools.org/schools/myers/calendar/9007479/
 spring-open-house-at-ahs-for-rising-9th-graders
DTSTART:20260528T213000Z
DTEND:20260528T230000Z
END:VEVENT
END:VCALENDAR
