BEGIN:VCALENDAR
VERSION:2.0
PRODID:SchoolNow
CALSCALE:GREGORIAN
BEGIN:VEVENT
UID:1e0045f8-3ce7-11f1-a730-0a58a9feac02
DTSTAMP:20260420T183116Z
SUMMARY:Grade 8 field trip to Fenimore Museum & Country Village
URL;VALUE=URI:https://www.albanyschools.org/schools/myers/calendar/9007482/
 grade-8-field-trip-to-fenimore-museum-country-village
DTSTART:20260529T183000Z
DTEND:20260529T193000Z
END:VEVENT
END:VCALENDAR
