BEGIN:VCALENDAR
VERSION:2.0
PRODID:SchoolNow
CALSCALE:GREGORIAN
BEGIN:VEVENT
UID:31b2b1b2-3ce7-11f1-a917-0a58a9feac02
DTSTAMP:20260420T183149Z
SUMMARY:College and Career Week
URL;VALUE=URI:https://www.albanyschools.org/schools/myers/calendar/9007483/
 college-and-career-week
DTSTART:20260601T183100Z
DTEND:20260605T193100Z
END:VEVENT
END:VCALENDAR
