BEGIN:VCALENDAR
VERSION:2.0
PRODID:SchoolNow
CALSCALE:GREGORIAN
BEGIN:VEVENT
UID:452b52f8-3ce7-11f1-b39e-0a58a9feac02
DTSTAMP:20260420T183222Z
SUMMARY:Grade 7 field trip to Peebles Island State Park
URL;VALUE=URI:https://www.albanyschools.org/schools/myers/calendar/9007484/
 grade-7-field-trip-to-peebles-island-state-park
DTSTART:20260603T183100Z
DTEND:20260603T193100Z
END:VEVENT
END:VCALENDAR
