BEGIN:VCALENDAR
VERSION:2.0
PRODID:SchoolNow
CALSCALE:GREGORIAN
BEGIN:VEVENT
UID:ac608d94-3ce7-11f1-8d77-0a58a9feac02
DTSTAMP:20260420T183515Z
SUMMARY:Grade 7 field trip to Valley Cats
URL;VALUE=URI:https://www.albanyschools.org/schools/myers/calendar/9007485/
 grade-7-field-trip-to-valley-cats
DTSTART:20260604T183200Z
DTEND:20260604T193200Z
END:VEVENT
END:VCALENDAR
