BEGIN:VCALENDAR
VERSION:2.0
PRODID:SchoolNow
CALSCALE:GREGORIAN
BEGIN:VEVENT
UID:d276d592-3ce7-11f1-8f4c-0affc3c71079
DTSTAMP:20260420T183619Z
SUMMARY:Modified sports celebration @ AHS
URL;VALUE=URI:https://www.albanyschools.org/schools/myers/calendar/9007486/
 modified-sports-celebration-ahs
DTSTART:20260616T200000Z
DTEND:20260616T213000Z
END:VEVENT
END:VCALENDAR
