BEGIN:VCALENDAR
VERSION:2.0
PRODID:SchoolNow
CALSCALE:GREGORIAN
BEGIN:VEVENT
UID:e617176a-3ce7-11f1-9f8d-0a58a9feac02
DTSTAMP:20260420T183652Z
SUMMARY:Grade 8 field trip to Grafton State Park
URL;VALUE=URI:https://www.albanyschools.org/schools/myers/calendar/9007487/
 grade-8-field-trip-to-grafton-state-park
DTSTART:20260622T183600Z
DTEND:20260622T193600Z
END:VEVENT
END:VCALENDAR
