BEGIN:VCALENDAR
VERSION:2.0
PRODID:SchoolNow
CALSCALE:GREGORIAN
BEGIN:VEVENT
UID:f1267696-3ce7-11f1-a44e-0a58a9feac02
DTSTAMP:20260420T183710Z
SUMMARY:Grade 7 Field Day
URL;VALUE=URI:https://www.albanyschools.org/schools/myers/calendar/9007488/
 grade-7-field-day
DTSTART:20260622T183600Z
DTEND:20260622T193600Z
END:VEVENT
END:VCALENDAR
