BEGIN:VCALENDAR
VERSION:2.0
PRODID:SchoolNow
CALSCALE:GREGORIAN
BEGIN:VEVENT
UID:00215df0-3ce8-11f1-aa62-0a58a9feac02
DTSTAMP:20260420T183735Z
SUMMARY:Grade 6 Field Day
URL;VALUE=URI:https://www.albanyschools.org/schools/myers/calendar/9007489/
 grade-6-field-day
DTSTART:20260623T183700Z
DTEND:20260623T193700Z
END:VEVENT
END:VCALENDAR
