BEGIN:VCALENDAR
VERSION:2.0
PRODID:SchoolNow
CALSCALE:GREGORIAN
BEGIN:VEVENT
UID:124d3076-3ce8-11f1-9b1f-0a58a9feac02
DTSTAMP:20260420T183806Z
SUMMARY:Grade 8 Field Day
URL;VALUE=URI:https://www.albanyschools.org/schools/myers/calendar/9007490/
 grade-8-field-day
DTSTART:20260625T183700Z
DTEND:20260625T193700Z
END:VEVENT
END:VCALENDAR
