BEGIN:VCALENDAR
VERSION:2.0
PRODID:SchoolNow
CALSCALE:GREGORIAN
BEGIN:VEVENT
UID:0313ca64-be07-11e9-aedb-0a1f5f0d2de0
DTSTAMP:20190813T201453Z
SUMMARY:Winter Concert
URL;VALUE=URI:https://www.albanyschools.org/schools/northalbany/calendar/20
 62712/winter-concert
DTSTART:20191210T230000Z
DTEND:20191211T045959Z
END:VEVENT
END:VCALENDAR
