BEGIN:VCALENDAR
VERSION:2.0
PRODID:SchoolNow
CALSCALE:GREGORIAN
BEGIN:VEVENT
UID:2b473a2a-c825-11e9-8de2-120a716d2e62
DTSTAMP:20190826T171557Z
SUMMARY:Orientation and Welcome Picnic
URL;VALUE=URI:https://www.albanyschools.org/schools/northalbany/calendar/20
 73212/orientation-and-welcome-picnic
DTSTART:20190904T200000Z
DTEND:20190904T220000Z
END:VEVENT
END:VCALENDAR
