BEGIN:VCALENDAR
VERSION:2.0
PRODID:SchoolNow
CALSCALE:GREGORIAN
BEGIN:VEVENT
UID:5b8b24ee-c825-11e9-bebf-120a716d2e62
DTSTAMP:20190826T171718Z
SUMMARY:PTA meeting
URL;VALUE=URI:https://www.albanyschools.org/schools/northalbany/calendar/20
 73213/pta-meeting
DTSTART:20191007T220000Z
DTEND:20191007T230000Z
END:VEVENT
END:VCALENDAR
