BEGIN:VCALENDAR
VERSION:2.0
PRODID:SchoolNow
CALSCALE:GREGORIAN
BEGIN:VEVENT
UID:aab96634-c82a-11e9-87cb-127ebded8136
DTSTAMP:20190826T175518Z
SUMMARY:Picture Day
URL;VALUE=URI:https://www.albanyschools.org/schools/northalbany/calendar/20
 73216/picture-day
DTSTART:20191025T120000Z
DTEND:20191026T015500Z
END:VEVENT
END:VCALENDAR
