BEGIN:VCALENDAR
VERSION:2.0
PRODID:SchoolNow
CALSCALE:GREGORIAN
BEGIN:VEVENT
UID:ce62eccc-c82a-11e9-99c9-127ebded8136
DTSTAMP:20190826T175618Z
SUMMARY:PTA meeting
URL;VALUE=URI:https://www.albanyschools.org/schools/northalbany/calendar/20
 73217/pta-meeting
DTSTART:20191104T230000Z
DTEND:20191105T000000Z
END:VEVENT
END:VCALENDAR
