BEGIN:VCALENDAR
VERSION:2.0
PRODID:SchoolNow
CALSCALE:GREGORIAN
BEGIN:VEVENT
UID:06b1ff44-c846-11e9-bec6-120a716d2e62
DTSTAMP:20190826T211109Z
SUMMARY:PTA meeting
URL;VALUE=URI:https://www.albanyschools.org/schools/northalbany/calendar/20
 73566/pta-meeting
DTSTART:20191209T230000Z
DTEND:20191210T000000Z
END:VEVENT
END:VCALENDAR
