BEGIN:VCALENDAR
VERSION:2.0
PRODID:SchoolNow
CALSCALE:GREGORIAN
BEGIN:VEVENT
UID:26317d0e-c846-11e9-a55e-120a716d2e62
DTSTAMP:20190826T211202Z
SUMMARY:PTA meeting
URL;VALUE=URI:https://www.albanyschools.org/schools/northalbany/calendar/20
 73567/pta-meeting
DTSTART:20200106T230000Z
DTEND:20200107T000000Z
END:VEVENT
END:VCALENDAR
