BEGIN:VCALENDAR
VERSION:2.0
PRODID:SchoolNow
CALSCALE:GREGORIAN
BEGIN:VEVENT
UID:8be1add6-c846-11e9-9c64-0a15685e5452
DTSTAMP:20190826T211453Z
SUMMARY:PTA meeting
URL;VALUE=URI:https://www.albanyschools.org/schools/northalbany/calendar/20
 73569/pta-meeting
DTSTART:20200309T220000Z
DTEND:20200309T230000Z
END:VEVENT
END:VCALENDAR
