BEGIN:VCALENDAR
VERSION:2.0
PRODID:SchoolNow
CALSCALE:GREGORIAN
BEGIN:VEVENT
UID:b8cc22f4-c846-11e9-8a7e-0a15685e5452
DTSTAMP:20190826T211608Z
SUMMARY:PTA meeting
URL;VALUE=URI:https://www.albanyschools.org/schools/northalbany/calendar/20
 73571/pta-meeting
DTSTART:20200504T220000Z
DTEND:20200504T230000Z
END:VEVENT
END:VCALENDAR
