BEGIN:VCALENDAR
VERSION:2.0
PRODID:SchoolNow
CALSCALE:GREGORIAN
BEGIN:VEVENT
UID:dde7a906-f1c1-11e9-9c3c-0a27248f85c8
DTSTAMP:20191018T163826Z
SUMMARY:School store opens
URL;VALUE=URI:https://www.albanyschools.org/schools/northalbany/calendar/21
 23926/school-store-opens
DTSTART:20191022T151500Z
DTEND:20191022T161500Z
END:VEVENT
END:VCALENDAR
