BEGIN:VCALENDAR
VERSION:2.0
PRODID:SchoolNow
CALSCALE:GREGORIAN
BEGIN:VEVENT
UID:626bb8b8-a0f7-11ea-9d18-127021b884e9
DTSTAMP:20200612T163340Z
SUMMARY:End of year celebration
URL;VALUE=URI:https://www.albanyschools.org/schools/northalbany/calendar/22
 54073/end-of-year-celebration
DTSTART:20200618T161500Z
DTEND:20200618T164500Z
END:VEVENT
END:VCALENDAR
