BEGIN:VCALENDAR
VERSION:2.0
PRODID:SchoolNow
CALSCALE:GREGORIAN
BEGIN:VEVENT
UID:b5cfa712-f205-11ea-83a4-1281b1d6b58d
DTSTAMP:20200909T191107Z
SUMMARY:North Albany Grade 7 Orientation (1:20-2 p.m.)
URL;VALUE=URI:https://www.albanyschools.org/schools/northalbany/calendar/23
 42073/north-albany-grade-7-orientation-1-20-2-p-m
DTSTART:20200910T172000Z
DTEND:20200910T181000Z
END:VEVENT
END:VCALENDAR
