BEGIN:VCALENDAR
VERSION:2.0
PRODID:SchoolNow
CALSCALE:GREGORIAN
BEGIN:VEVENT
UID:fdd11bb8-f205-11ea-898f-0a330a8f53ef
DTSTAMP:20200909T191121Z
SUMMARY:North Albany Grade 6 Orientation (2:10-2:50 p.m.)
URL;VALUE=URI:https://www.albanyschools.org/schools/northalbany/calendar/23
 42076/north-albany-grade-6-orientation-2-10-2-50-p-m
DTSTART:20200910T181000Z
DTEND:20200910T185000Z
END:VEVENT
END:VCALENDAR
