BEGIN:VCALENDAR
VERSION:2.0
PRODID:SchoolNow
CALSCALE:GREGORIAN
BEGIN:VEVENT
UID:dc09be26-0a39-11eb-9130-0affe77c1951
DTSTAMP:20201009T141518Z
SUMMARY:Virtual Parent University: Family Time and Active Fun (evening)
URL;VALUE=URI:https://www.albanyschools.org/schools/northalbany/calendar/24
 34250/family-time-and-active-fun-evening
DTSTART:20201028T230000Z
DTEND:20201029T000000Z
END:VEVENT
END:VCALENDAR
