BEGIN:VCALENDAR
VERSION:2.0
PRODID:SchoolNow
CALSCALE:GREGORIAN
BEGIN:VEVENT
UID:9bb01f4a-0a3a-11eb-b04f-127ca36b3e97
DTSTAMP:20201020T130048Z
SUMMARY:Virtual Parent University: Fruits and Vegetables (daytime)
URL;VALUE=URI:https://www.albanyschools.org/schools/northalbany/calendar/24
 34328/fruits-and-vegetables-daytime
DTSTART:20201020T150000Z
DTEND:20201020T160000Z
END:VEVENT
END:VCALENDAR
