BEGIN:VCALENDAR
VERSION:2.0
PRODID:SchoolNow
CALSCALE:GREGORIAN
BEGIN:VEVENT
UID:a2888f56-0e21-11eb-ad4f-0af9753bbd29
DTSTAMP:20201026T142013Z
SUMMARY:NAMS Virtual Open House
URL;VALUE=URI:https://www.albanyschools.org/schools/northalbany/calendar/24
 57665/virtual-open-house
DTSTART:20201026T220000Z
DTEND:20201027T000000Z
END:VEVENT
END:VCALENDAR
