BEGIN:VCALENDAR
VERSION:2.0
PRODID:SchoolNow
CALSCALE:GREGORIAN
BEGIN:VEVENT
UID:889650b2-2053-11eb-815f-0a2bc3bc8a13
DTSTAMP:20201106T173121Z
SUMMARY:NAMS Coffee Chat
URL;VALUE=URI:https://www.albanyschools.org/schools/northalbany/calendar/24
 90952/nams-coffee-chat
DTSTART:20201107T140000Z
DTEND:20201107T150000Z
END:VEVENT
END:VCALENDAR
