BEGIN:VCALENDAR
VERSION:2.0
PRODID:SchoolNow
CALSCALE:GREGORIAN
BEGIN:VEVENT
UID:86277d2c-25f5-11eb-b569-0a0c72c36359
DTSTAMP:20201113T211641Z
SUMMARY:NAMS Coffee Chat
URL;VALUE=URI:https://www.albanyschools.org/schools/northalbany/calendar/24
 96477/nams-coffee-chat
DTSTART:20201118T230000Z
DTEND:20201119T000000Z
END:VEVENT
END:VCALENDAR
