BEGIN:VCALENDAR
VERSION:2.0
PRODID:SchoolNow
CALSCALE:GREGORIAN
BEGIN:VEVENT
UID:16096af6-2b62-11eb-9b0b-124323ae055d
DTSTAMP:20201120T185624Z
SUMMARY:NAMS Coffee Chat
URL;VALUE=URI:https://www.albanyschools.org/schools/northalbany/calendar/25
 00658/nams-coffee-chat
DTSTART:20201205T140000Z
DTEND:20201205T150000Z
END:VEVENT
END:VCALENDAR
