BEGIN:VCALENDAR
VERSION:2.0
PRODID:SchoolNow
CALSCALE:GREGORIAN
BEGIN:VEVENT
UID:b7df9182-35af-11eb-acd6-12c9b4024cdb
DTSTAMP:20201203T213718Z
SUMMARY:First Quarter Honor Roll Ceremony
URL;VALUE=URI:https://www.albanyschools.org/schools/northalbany/calendar/25
 08548/first-quarter-honor-roll-ceremony
DTSTART:20201211T134500Z
DTEND:20201211T141500Z
END:VEVENT
END:VCALENDAR
