BEGIN:VCALENDAR
VERSION:2.0
PRODID:SchoolNow
CALSCALE:GREGORIAN
BEGIN:VEVENT
UID:4477a15a-3bca-11eb-8b60-12d4657d6313
DTSTAMP:20201211T160228Z
SUMMARY:Coffee Chat
URL;VALUE=URI:https://www.albanyschools.org/schools/northalbany/calendar/25
 11286/coffee-chat
DTSTART:20201216T230000Z
DTEND:20201217T000000Z
END:VEVENT
END:VCALENDAR
