BEGIN:VCALENDAR
VERSION:2.0
PRODID:SchoolNow
CALSCALE:GREGORIAN
BEGIN:VEVENT
UID:17037002-4ec9-11eb-a610-0e1960c7bfaf
DTSTAMP:20210104T201154Z
SUMMARY:Parent University: Teen Depression and Suicide (session 2)
URL;VALUE=URI:https://www.albanyschools.org/schools/northalbany/calendar/25
 18799/mts-virtual-session-2
DTSTART:20210127T000000Z
DTEND:20210127T011500Z
END:VEVENT
END:VCALENDAR
