BEGIN:VCALENDAR
VERSION:2.0
PRODID:SchoolNow
CALSCALE:GREGORIAN
BEGIN:VEVENT
UID:213454f4-50fb-11eb-bce9-0a2d48a86ed7
DTSTAMP:20210107T153222Z
SUMMARY:Coffee Chat
URL;VALUE=URI:https://www.albanyschools.org/schools/northalbany/calendar/25
 21025/coffee-chat
DTSTART:20210109T140000Z
DTEND:20210109T150000Z
END:VEVENT
END:VCALENDAR
