BEGIN:VCALENDAR
VERSION:2.0
PRODID:SchoolNow
CALSCALE:GREGORIAN
BEGIN:VEVENT
UID:4ff3db66-50fb-11eb-ae39-0a2d48a86ed7
DTSTAMP:20210107T153240Z
SUMMARY:Coffee Chat
URL;VALUE=URI:https://www.albanyschools.org/schools/northalbany/calendar/25
 21026/coffee-chat
DTSTART:20210120T230000Z
DTEND:20210121T000000Z
END:VEVENT
END:VCALENDAR
