BEGIN:VCALENDAR
VERSION:2.0
PRODID:SchoolNow
CALSCALE:GREGORIAN
BEGIN:VEVENT
UID:66623f78-50fb-11eb-87d3-0a2d48a86ed7
DTSTAMP:20210122T181913Z
SUMMARY:Coffee Chat
URL;VALUE=URI:https://www.albanyschools.org/schools/northalbany/calendar/25
 21027/coffee-chat
DTSTART:20210206T140000Z
DTEND:20210206T150000Z
END:VEVENT
END:VCALENDAR
