BEGIN:VCALENDAR
VERSION:2.0
PRODID:SchoolNow
CALSCALE:GREGORIAN
BEGIN:VEVENT
UID:67231300-511a-11eb-af60-0a6a1d8e765f
DTSTAMP:20210107T190317Z
SUMMARY:Info session: People with autism and sensory integration
URL;VALUE=URI:https://www.albanyschools.org/schools/northalbany/calendar/25
 21144/info-session-people-with-autism-and-sensory-integration
DTSTART:20210112T230000Z
DTEND:20210113T000000Z
END:VEVENT
END:VCALENDAR
