BEGIN:VCALENDAR
VERSION:2.0
PRODID:SchoolNow
CALSCALE:GREGORIAN
BEGIN:VEVENT
UID:12e5432c-8111-11eb-a574-0a2c01f6f589
DTSTAMP:20210309T195309Z
SUMMARY:Spring Picture Day
URL;VALUE=URI:https://www.albanyschools.org/schools/northalbany/calendar/25
 53950/spring-picture-day
DTSTART:20210316T153000Z
DTEND:20210316T183000Z
END:VEVENT
END:VCALENDAR
