BEGIN:VCALENDAR
VERSION:2.0
PRODID:SchoolNow
CALSCALE:GREGORIAN
BEGIN:VEVENT
UID:670c510c-8111-11eb-ac9b-0aec275e2cb1
DTSTAMP:20210309T200121Z
SUMMARY:Coffee Chat: Self care and resilience
URL;VALUE=URI:https://www.albanyschools.org/schools/northalbany/calendar/25
 53951/coffee-chat-self-care-and-resilience
DTSTART:20210324T220000Z
DTEND:20210324T230000Z
END:VEVENT
END:VCALENDAR
