BEGIN:VCALENDAR
VERSION:2.0
PRODID:SchoolNow
CALSCALE:GREGORIAN
BEGIN:VEVENT
UID:83e49a28-8111-11eb-97d2-02737e3206b3
DTSTAMP:20210309T200133Z
SUMMARY:Coffee Chat: Summer programs roundtable
URL;VALUE=URI:https://www.albanyschools.org/schools/northalbany/calendar/25
 53952/coffee-chat-summer-programs-roundtable
DTSTART:20210403T130000Z
DTEND:20210403T140000Z
END:VEVENT
END:VCALENDAR
