BEGIN:VCALENDAR
VERSION:2.0
PRODID:SchoolNow
CALSCALE:GREGORIAN
BEGIN:VEVENT
UID:80ecf7f4-90be-11eb-bde2-0e46c51e07d1
DTSTAMP:20210329T184750Z
SUMMARY:Blaze Pizza Fundraiser
URL;VALUE=URI:https://www.albanyschools.org/schools/northalbany/calendar/25
 64443/blaze-pizza-fundraiser
DTSTART:20210413T193000Z
DTEND:20210414T000000Z
END:VEVENT
END:VCALENDAR
